BEGIN:VCALENDAR
VERSION:2.0
PRODID:-//NAPCP - ECPv4.6.1//NONSGML v1.0//EN
CALSCALE:GREGORIAN
METHOD:PUBLISH
X-WR-CALNAME:NAPCP
X-ORIGINAL-URL:http://www.napcp.ie
X-WR-CALDESC:Events for NAPCP
BEGIN:VEVENT
DTSTART;TZID=Europe/Dublin:20171202T100000
DTEND;TZID=Europe/Dublin:20171202T140000
DTSTAMP:20171106T175832
CREATED:20170726T121952Z
LAST-MODIFIED:20171017T115417Z
UID:1477-1512208800-1512223200@www.napcp.ie
SUMMARY:AGM 2nd  December 2017
DESCRIPTION:ANNUAL GENERAL MEETING \nSATURDAY 2nd December 2017 \nMALDRON HOTEL\, NEWLANDS CROSS  –  DUBLIN 22.  \n09:30                                       Registration – Tea/Coffee \n10:00                                       Guest Speaker –  Eileen  Finnegan \nEileen is the Clinical Director at One in Four\, and she has been employed in this organisation since 2005.  \nShe has over 25 years of experience of working as a psychotherapist in a variety of settings. During the past twelve years she has worked with individuals who have been impacted by all aspects of sexual violence. The work involves offering support to victims\, offenders and families of both. \nSince joining One In Four\, Eileen has developed the therapeutic programmes which are delivered to victims of sexual violence attending the service\, now offering a Family and  Support Person’s programme. During the past seven years\, she has developed the Phoenix Programmes which offer assessment of therapeutic need and therapeutic interventions to individuals who have acted out in a sexually harmful way. The programmes also provide support and intervention to all those indirectly impacted by sexual offending as this is a crucial element of Child Protection. \n‘The Road Less Traveled ‘ \n‘Navigating the complexities of Sexually Harmful Behaviour’ especially when the victim wants a restorative intervention approach’ as a pathway to prevention. \nThe aim of this presentation is to gain an understanding of the complexities for a family\, society\,  where there has been a disclosure of sexually harmful behaviour. \nIt will offer an opportunity to discuss this from a societal\, community\, and family aspect\, focussing on how each view can have a positive or negative aspect on the pathway to prevention. \nThe presentation will then focus specifically on the therapist in this relationship. The challenge of acknowledging our own biases from a cultural race \, religious and ethical stance by discussing \n\nThe use of self  by the therapist\nThe ability to self-reflect as a way of understanding the dynamics of sexual violence (parallel process) \nHow sexual violence can get played out within the ‘system’ similar to how sexual violence can be played out in families.  \n\n11.30am                                   Tea/Coffee Break \n11:45am                                   A.G.M. \n13:30pm                                   Light Lunch \n
URL:http://www.napcp.ie/event/agm-2/
LOCATION:Newlands Cross\,\, Dublin\, 22\, Ireland
END:VEVENT
END:VCALENDAR