BEGIN:VCALENDAR
VERSION:2.0
PRODID:-//NAPCP - ECPv4.6.1//NONSGML v1.0//EN
CALSCALE:GREGORIAN
METHOD:PUBLISH
X-WR-CALNAME:NAPCP
X-ORIGINAL-URL:http://www.napcp.ie
X-WR-CALDESC:Events for NAPCP
BEGIN:VEVENT
DTSTART;TZID=Europe/Dublin:20151121T090000
DTEND;TZID=Europe/Dublin:20151121T140000
DTSTAMP:20171106T180359
CREATED:20151118T113147Z
LAST-MODIFIED:20151118T113147Z
UID:1256-1448096400-1448114400@www.napcp.ie
SUMMARY:AGM
DESCRIPTION:Annual General Meeting \nSaturday 21st November 2015\, \nMaldron Hotel\, Newlands Cross\, Dublin.22. \n\n
URL:http://www.napcp.ie/event/agm/
END:VEVENT
END:VCALENDAR