BEGIN:VCALENDAR
VERSION:2.0
PRODID:-//NAPCP - ECPv4.6.1//NONSGML v1.0//EN
CALSCALE:GREGORIAN
METHOD:PUBLISH
X-WR-CALNAME:NAPCP
X-ORIGINAL-URL:http://www.napcp.ie
X-WR-CALDESC:Events for NAPCP
BEGIN:VEVENT
DTSTART;TZID=Europe/Dublin:20151003T093000
DTEND;TZID=Europe/Dublin:20151003T170000
DTSTAMP:20171106T180347
CREATED:20150512T122625Z
LAST-MODIFIED:20150922T122649Z
UID:1145-1443864600-1443891600@www.napcp.ie
SUMMARY:21st Anniversary Conference
DESCRIPTION:We are holding a 21st Anniversary Conference in the Hilton Hotel Kilmainham Conference Centre. \n \n\n
URL:http://www.napcp.ie/event/21st-anniversary-conference/
LOCATION:Kilmainham\, Dublin.8
END:VEVENT
END:VCALENDAR