BEGIN:VCALENDAR
VERSION:2.0
PRODID:-//NAPCP - ECPv4.6.1//NONSGML v1.0//EN
CALSCALE:GREGORIAN
METHOD:PUBLISH
X-WR-CALNAME:NAPCP
X-ORIGINAL-URL:http://www.napcp.ie
X-WR-CALDESC:Events for NAPCP
BEGIN:VEVENT
DTSTART;TZID=Europe/Dublin:20170401T093000
DTEND;TZID=Europe/Dublin:20170401T160000
DTSTAMP:20171106T180536
CREATED:20170118T110344Z
LAST-MODIFIED:20170308T174503Z
UID:1389-1491039000-1491062400@www.napcp.ie
SUMMARY:Workshop - Bereavement Loss and Traumatic Death - Helping the Survivors.
DESCRIPTION:We are holding our next Workshop on Saturday April 1st. \nTrauma is a distressing event in which a person often feels severely threatened emotionally\, psychologically\, or physically. Most people will experience a traumatic event at some point in their lives\, e.g. a car accident\, abuse or neglect\, the sudden death of a loved one\, a violent criminal act\, or a natural disaster. Many people recover from trauma\, but for others\, the effects of trauma are lasting\, causing a person to live with deep emotional pain\, fear\, confusion. Often\, the support\, guidance\, and assistance of health professionals are fundamental to healing from trauma.\nThe day explores issues arising from those who have experienced traumatic loss in their lives\, and\, while including some theoretical inputs\, is participative and experiential in nature.\nWorkshop focus:          –           Reaction to loss and traumatic death      –     Structured support for survivors       –           How early engagement leads to better outcomes                    –           Self Care \nFacilitator: Denis O’Connor. \nBook early if you wish to guarantee a place.  Check out details below: \nNotice for Workshop 1st April 2017 \n\n                \n                        Booking Price*Student Member: €40Members: €70Non Members: €90Full Name*Address*Phone Number*Email*\n                            \n                        Total\n						0\,00 €\n						\n					\n                            \n          \n            \n            \n            \n            \n            \n            \n            \n            \n            \n        \n                        \n                        \n                This iframe contains the logic required to handle Ajax powered Gravity Forms.\n                jQuery(document).ready(function($){gformInitSpinner( 10\, 'http://www.napcp.ie/wp-content/plugins/gravityforms/images/spinner.gif' );jQuery('#gform_ajax_frame_10').load( function(){var contents = jQuery(this).contents().find('*').html();var is_postback = contents.indexOf('GF_AJAX_POSTBACK') >= 0;if(!is_postback){return;}var form_content = jQuery(this).contents().find('#gform_wrapper_10');var is_confirmation = jQuery(this).contents().find('#gform_confirmation_wrapper_10').length > 0;var is_redirect = contents.indexOf('gformRedirect(){') >= 0;var is_form = form_content.length > 0 && ! is_redirect && ! is_confirmation;if(is_form){jQuery('#gform_wrapper_10').html(form_content.html());if(form_content.hasClass('gform_validation_error')){jQuery('#gform_wrapper_10').addClass('gform_validation_error');} else {jQuery('#gform_wrapper_10').removeClass('gform_validation_error');}setTimeout( function() { /* delay the scroll by 50 milliseconds to fix a bug in chrome */ jQuery(document).scrollTop(jQuery('#gform_wrapper_10').offset().top); }\, 50 );if(window['gformInitDatepicker']) {gformInitDatepicker();}if(window['gformInitPriceFields']) {gformInitPriceFields();}var current_page = jQuery('#gform_source_page_number_10').val();gformInitSpinner( 10\, 'http://www.napcp.ie/wp-content/plugins/gravityforms/images/spinner.gif' );jQuery(document).trigger('gform_page_loaded'\, [10\, current_page]);window['gf_submitting_10'] = false;}else if(!is_redirect){var confirmation_content = jQuery(this).contents().find('.GF_AJAX_POSTBACK').html();if(!confirmation_content){confirmation_content = contents;}setTimeout(function(){jQuery('#gform_wrapper_10').replaceWith(confirmation_content);jQuery(document).scrollTop(jQuery('#gf_10').offset().top);jQuery(document).trigger('gform_confirmation_loaded'\, [10]);window['gf_submitting_10'] = false;}\, 50);}else{jQuery('#gform_10').append(contents);if(window['gformRedirect']) {gformRedirect();}}jQuery(document).trigger('gform_post_render'\, [10\, current_page]);} );} ); if(typeof gf_global == 'undefined') var gf_global = {"gf_currency_config":{"name":"Euro"\,"symbol_left":""\,"symbol_right":"€"\,"symbol_padding":" "\,"thousand_separator":"."\,"decimal_separator":"\,"\,"decimals":2}\,"base_url":"http:\/\/www.napcp.ie\/wp-content\/plugins\/gravityforms"\,"number_formats":[]\,"spinnerUrl":"http:\/\/www.napcp.ie\/wp-content\/plugins\/gravityforms\/images\/spinner.gif"};jQuery(document).bind('gform_post_render'\, function(event\, formId\, currentPage){if(formId == 10) {gf_global["number_formats"][10] = {"6":{"price":"decimal_dot"\,"value":false}\,"1":{"price":false\,"value":false}\,"2":{"price":false\,"value":false}\,"3":{"price":false\,"value":false}\,"4":{"price":false\,"value":false}\,"5":{"price":false\,"value":false}\,"7":{"price":false\,"value":false}};if(window["gformInitPriceFields"]) jQuery(document).ready(function(){gformInitPriceFields();} );} } );jQuery(document).bind('gform_post_conditional_logic'\, function(event\, formId\, fields\, isInit){} ); jQuery(document).ready(function(){jQuery(document).trigger('gform_post_render'\, [10\, 1]) } ); \n
URL:http://www.napcp.ie/event/workshop-bereavement-loss-traumatic-death-helping-survivors/
LOCATION:Newlands Cross\,\, Dublin\, 22\, Ireland
END:VEVENT
END:VCALENDAR